BEGIN:VCALENDAR
VERSION:2.0
PRODID:-//Fahr- und Reitverein Neuhofen e.V. - ECPv6.15.20//NONSGML v1.0//EN
CALSCALE:GREGORIAN
METHOD:PUBLISH
X-ORIGINAL-URL:https://reitverein-neuhofen.com
X-WR-CALDESC:Veranstaltungen für Fahr- und Reitverein Neuhofen e.V.
REFRESH-INTERVAL;VALUE=DURATION:PT1H
X-Robots-Tag:noindex
X-PUBLISHED-TTL:PT1H
BEGIN:VTIMEZONE
TZID:Europe/Paris
BEGIN:DAYLIGHT
TZOFFSETFROM:+0100
TZOFFSETTO:+0200
TZNAME:CEST
DTSTART:20250330T010000
END:DAYLIGHT
BEGIN:STANDARD
TZOFFSETFROM:+0200
TZOFFSETTO:+0100
TZNAME:CET
DTSTART:20251026T010000
END:STANDARD
BEGIN:DAYLIGHT
TZOFFSETFROM:+0100
TZOFFSETTO:+0200
TZNAME:CEST
DTSTART:20260329T010000
END:DAYLIGHT
BEGIN:STANDARD
TZOFFSETFROM:+0200
TZOFFSETTO:+0100
TZNAME:CET
DTSTART:20261025T010000
END:STANDARD
BEGIN:DAYLIGHT
TZOFFSETFROM:+0100
TZOFFSETTO:+0200
TZNAME:CEST
DTSTART:20270328T010000
END:DAYLIGHT
BEGIN:STANDARD
TZOFFSETFROM:+0200
TZOFFSETTO:+0100
TZNAME:CET
DTSTART:20271031T010000
END:STANDARD
END:VTIMEZONE
BEGIN:VEVENT
DTSTART;VALUE=DATE:20260228
DTEND;VALUE=DATE:20260302
DTSTAMP:20260420T210410
CREATED:20260104T222613Z
LAST-MODIFIED:20260104T222613Z
UID:52071-1772236800-1772409599@reitverein-neuhofen.com
SUMMARY:Springlehrgang mit Peter Steiger
DESCRIPTION:
URL:https://reitverein-neuhofen.com/termine/springlehrgang-mit-peter-steiger/
LOCATION:Vereinsgelände des FRV Neuhofen
CATEGORIES:Lehrgänge
END:VEVENT
BEGIN:VEVENT
DTSTART;VALUE=DATE:20260314
DTEND;VALUE=DATE:20260316
DTSTAMP:20260420T210410
CREATED:20260104T222707Z
LAST-MODIFIED:20260104T222707Z
UID:52072-1773446400-1773619199@reitverein-neuhofen.com
SUMMARY:Geländelehrgang mit Stefan Odenbreit
DESCRIPTION:
URL:https://reitverein-neuhofen.com/termine/gelaendelehrgang-mit-stefan-odenbreit/
LOCATION:Vereinsgelände des FRV Neuhofen
CATEGORIES:Lehrgänge
END:VEVENT
END:VCALENDAR